BEGIN:VCALENDAR
VERSION:2.0
PRODID:-//Squarespace Inc/Squarespace 6//v6//EN
BEGIN:VEVENT
UID:5e52f40dab5cfe144810e6b4@squarespace.com
DTSTAMP:20210325T020626Z
DTSTART:20200425T130000Z
DTEND:20200427T010000Z
SUMMARY:Malcontents: A Convergence of Trans Scholarship
END:VEVENT
END:VCALENDAR
